Package: RBGL Version: 1.78.0 Command: /home/biocbuild/R/R-4.3.1/bin/R CMD build --keep-empty-dirs --no-resave-data RBGL StartedAt: 2023-11-02 04:58:15 -0000 (Thu, 02 Nov 2023) EndedAt: 2023-11-02 05:01:09 -0000 (Thu, 02 Nov 2023) EllapsedTime: 174.2 seconds RetCode: 0 Status: OK PackageFile: RBGL_1.78.0.tar.gz PackageFileSize: 2.967 MiB