Package: QuasR Version: 1.42.1 Command: /home/biocbuild/bbs-3.18-bioc/R/bin/R CMD build --keep-empty-dirs --no-resave-data QuasR StartedAt: 2024-04-15 18:40:43 -0400 (Mon, 15 Apr 2024) EndedAt: 2024-04-15 18:44:55 -0400 (Mon, 15 Apr 2024) EllapsedTime: 251.4 seconds RetCode: 0 Status: OK PackageFile: QuasR_1.42.1.tar.gz PackageFileSize: 2.236 MiB