Package: QuasR Version: 1.42.1 Command: /home/biocbuild/R/R-4.3.1/bin/R CMD INSTALL QuasR StartedAt: 2023-11-01 20:33:07 -0000 (Wed, 01 Nov 2023) EndedAt: 2023-11-01 20:34:38 -0000 (Wed, 01 Nov 2023) EllapsedTime: 90.6 seconds RetCode: 0 Status: OK