Package: OpenStats Version: 1.14.0 Command: /Library/Frameworks/R.framework/Resources/bin/R CMD build --keep-empty-dirs --no-resave-data OpenStats StartedAt: 2024-03-03 17:39:45 -0500 (Sun, 03 Mar 2024) EndedAt: 2024-03-03 17:40:13 -0500 (Sun, 03 Mar 2024) EllapsedTime: 28.2 seconds RetCode: 0 Status: OK PackageFile: OpenStats_1.14.0.tar.gz PackageFileSize: 526.1 KiB