Package: OpenStats Version: 1.14.0 Command: rm -rf OpenStats.buildbin-libdir && mkdir OpenStats.buildbin-libdir && /Users/biocbuild/BBS/utils/build-universal.sh OpenStats_1.14.0.tar.gz /Library/Frameworks/R.framework/Resources/bin/R OpenStats.buildbin-libdir StartedAt: 2024-03-04 00:54:50 -0500 (Mon, 04 Mar 2024) EndedAt: 2024-03-04 00:55:12 -0500 (Mon, 04 Mar 2024) EllapsedTime: 22.9 seconds RetCode: 0 Status: OK PackageFile: OpenStats_1.14.0.tgz PackageFileSize: 843.3 KiB