Package: OmnipathR Version: 3.10.1 Command: /home/biocbuild/bbs-3.18-bioc/R/bin/R CMD build --keep-empty-dirs --no-resave-data OmnipathR StartedAt: 2024-04-15 18:17:45 -0400 (Mon, 15 Apr 2024) EndedAt: 2024-04-15 18:29:38 -0400 (Mon, 15 Apr 2024) EllapsedTime: 713.8 seconds RetCode: 1 Status: ERROR PackageFile: None PackageFileSize: NA