Package: NormqPCR Version: 1.48.0 Command: /home/biocbuild/R/R-4.3.1/bin/R CMD build --keep-empty-dirs --no-resave-data NormqPCR StartedAt: 2023-11-02 04:07:05 -0000 (Thu, 02 Nov 2023) EndedAt: 2023-11-02 04:07:22 -0000 (Thu, 02 Nov 2023) EllapsedTime: 17.0 seconds RetCode: 0 Status: OK PackageFile: NormqPCR_1.48.0.tar.gz PackageFileSize: 407 KiB