Package: NanoStringDiff Version: 1.32.0 Command: /home/biocbuild/R/R-4.3.1/bin/R CMD check --install=check:NanoStringDiff.install-out.txt --library=/home/biocbuild/R/R-4.3.1/site-library --no-vignettes --timings NanoStringDiff_1.32.0.tar.gz StartedAt: 2023-11-02 12:36:32 -0000 (Thu, 02 Nov 2023) EndedAt: 2023-11-02 12:39:01 -0000 (Thu, 02 Nov 2023) EllapsedTime: 148.5 seconds RetCode: 0 Status: WARNINGS CheckDir: NanoStringDiff.Rcheck Warnings: 1