Package: MultiRNAflow Version: 1.0.0 Command: /Library/Frameworks/R.framework/Resources/bin/R CMD build --keep-empty-dirs --no-resave-data MultiRNAflow StartedAt: 2024-04-15 20:21:07 -0400 (Mon, 15 Apr 2024) EndedAt: 2024-04-15 20:28:56 -0400 (Mon, 15 Apr 2024) EllapsedTime: 469.5 seconds RetCode: 0 Status: OK PackageFile: MultiRNAflow_1.0.0.tar.gz PackageFileSize: 2.825 MiB