Package: MsDataHub Version: 1.2.0 Command: /home/biocbuild/R/R-4.3.1/bin/R CMD build --keep-empty-dirs --no-resave-data MsDataHub StartedAt: 2023-11-02 03:45:23 -0000 (Thu, 02 Nov 2023) EndedAt: 2023-11-02 04:25:23 -0000 (Thu, 02 Nov 2023) EllapsedTime: 2400.0 seconds RetCode: None Status: TIMEOUT PackageFile: None PackageFileSize: NA