Package: MsCoreUtils Version: 1.14.1 Command: chmod a+r MsCoreUtils -R && F:\biocbuild\bbs-3.18-bioc\R\bin\R.exe CMD build --keep-empty-dirs --no-resave-data MsCoreUtils StartedAt: 2024-04-15 19:44:19 -0400 (Mon, 15 Apr 2024) EndedAt: 2024-04-15 19:44:39 -0400 (Mon, 15 Apr 2024) EllapsedTime: 20.3 seconds RetCode: 0 Status: OK PackageFile: MsCoreUtils_1.14.1.tar.gz PackageFileSize: 399.1 KiB