Package: MsBackendMassbank Version: 1.10.1 Command: /home/biocbuild/R/R-4.3.1/bin/R CMD INSTALL MsBackendMassbank StartedAt: 2023-11-01 20:22:26 -0000 (Wed, 01 Nov 2023) EndedAt: 2023-11-01 20:22:42 -0000 (Wed, 01 Nov 2023) EllapsedTime: 15.7 seconds RetCode: 0 Status: OK