Package: MotifDb Version: 1.44.0 Command: /home/biocbuild/bbs-3.18-bioc/R/bin/R CMD build --keep-empty-dirs --no-resave-data MotifDb StartedAt: 2024-04-15 18:03:16 -0400 (Mon, 15 Apr 2024) EndedAt: 2024-04-15 18:04:12 -0400 (Mon, 15 Apr 2024) EllapsedTime: 56.2 seconds RetCode: 0 Status: OK PackageFile: MotifDb_1.44.0.tar.gz PackageFileSize: 3.226 MiB