Package: MetaboCoreUtils Version: 1.10.0 Command: rm -rf MetaboCoreUtils.buildbin-libdir && mkdir MetaboCoreUtils.buildbin-libdir && /Users/biocbuild/BBS/utils/build-universal.sh MetaboCoreUtils_1.10.0.tar.gz /Library/Frameworks/R.framework/Resources/bin/R MetaboCoreUtils.buildbin-libdir StartedAt: 2024-04-16 12:09:59 -0400 (Tue, 16 Apr 2024) EndedAt: 2024-04-16 12:10:14 -0400 (Tue, 16 Apr 2024) EllapsedTime: 14.6 seconds RetCode: 0 Status: OK PackageFile: MetaboCoreUtils_1.10.0.tgz PackageFileSize: 500.8 KiB