Package: MSstatsQCgui Version: 1.22.0 Command: /home/biocbuild/R/R-4.3.1/bin/R CMD build --keep-empty-dirs --no-resave-data MSstatsQCgui StartedAt: 2023-11-02 03:49:40 -0000 (Thu, 02 Nov 2023) EndedAt: 2023-11-02 03:50:05 -0000 (Thu, 02 Nov 2023) EllapsedTime: 25.0 seconds RetCode: 0 Status: OK PackageFile: MSstatsQCgui_1.22.0.tar.gz PackageFileSize: 75.92 KiB