Package: MPRAnalyze Version: 1.20.0 Command: /home/biocbuild/R/R-4.3.1/bin/R CMD INSTALL MPRAnalyze StartedAt: 2023-11-01 20:31:34 -0000 (Wed, 01 Nov 2023) EndedAt: 2023-11-01 20:32:07 -0000 (Wed, 01 Nov 2023) EllapsedTime: 32.8 seconds RetCode: 0 Status: OK