Package: MLSeq Version: 2.20.0 Command: /home/biocbuild/bbs-3.18-bioc/R/bin/R CMD check --install=check:MLSeq.install-out.txt --library=/home/biocbuild/bbs-3.18-bioc/R/site-library --timings MLSeq_2.20.0.tar.gz StartedAt: 2024-04-16 01:01:51 -0400 (Tue, 16 Apr 2024) EndedAt: 2024-04-16 01:07:46 -0400 (Tue, 16 Apr 2024) EllapsedTime: 355.1 seconds RetCode: 0 Status: OK CheckDir: MLSeq.Rcheck Warnings: 0