Package: MLSeq Version: 2.20.0 Command: /Library/Frameworks/R.framework/Resources/bin/R CMD INSTALL MLSeq StartedAt: 2024-03-03 15:37:34 -0500 (Sun, 03 Mar 2024) EndedAt: 2024-03-03 15:38:22 -0500 (Sun, 03 Mar 2024) EllapsedTime: 47.4 seconds RetCode: 0 Status: OK