Package: MLSeq Version: 2.20.0 Command: rm -rf MLSeq.buildbin-libdir && mkdir MLSeq.buildbin-libdir && /Users/biocbuild/BBS/utils/build-universal.sh MLSeq_2.20.0.tar.gz /Library/Frameworks/R.framework/Resources/bin/R MLSeq.buildbin-libdir StartedAt: 2024-03-04 00:51:20 -0500 (Mon, 04 Mar 2024) EndedAt: 2024-03-04 00:52:10 -0500 (Mon, 04 Mar 2024) EllapsedTime: 50.1 seconds RetCode: 0 Status: OK PackageFile: MLSeq_2.20.0.tgz PackageFileSize: 1.054 MiB