Package: LymphoSeq Version: 1.30.0 Command: /home/biocbuild/R/R-4.3.1/bin/R CMD INSTALL LymphoSeq StartedAt: 2023-11-01 20:19:48 -0000 (Wed, 01 Nov 2023) EndedAt: 2023-11-01 20:20:13 -0000 (Wed, 01 Nov 2023) EllapsedTime: 25.4 seconds RetCode: 0 Status: OK