Package: KinSwingR Version: 1.20.0 Command: rm -rf KinSwingR.buildbin-libdir && mkdir KinSwingR.buildbin-libdir && /Users/biocbuild/BBS/utils/build-universal.sh KinSwingR_1.20.0.tar.gz /Library/Frameworks/R.framework/Resources/bin/R KinSwingR.buildbin-libdir StartedAt: 2024-03-04 00:47:43 -0500 (Mon, 04 Mar 2024) EndedAt: 2024-03-04 00:47:52 -0500 (Mon, 04 Mar 2024) EllapsedTime: 9.1 seconds RetCode: 0 Status: OK PackageFile: KinSwingR_1.20.0.tgz PackageFileSize: 630.8 KiB