Package: KEGGREST Version: 1.42.0 Command: /home/biocbuild/R/R-4.3.1/bin/R CMD build --keep-empty-dirs --no-resave-data KEGGREST StartedAt: 2023-11-02 02:36:16 -0000 (Thu, 02 Nov 2023) EndedAt: 2023-11-02 02:36:42 -0000 (Thu, 02 Nov 2023) EllapsedTime: 26.0 seconds RetCode: 0 Status: OK PackageFile: KEGGREST_1.42.0.tar.gz PackageFileSize: 21.9 KiB