Package: IsoformSwitchAnalyzeR Version: 2.2.0 Command: chmod a+r IsoformSwitchAnalyzeR -R && F:\biocbuild\bbs-3.18-bioc\R\bin\R.exe CMD build --keep-empty-dirs --no-resave-data IsoformSwitchAnalyzeR StartedAt: 2024-04-15 19:12:58 -0400 (Mon, 15 Apr 2024) EndedAt: 2024-04-15 19:17:04 -0400 (Mon, 15 Apr 2024) EllapsedTime: 246.2 seconds RetCode: 0 Status: OK PackageFile: IsoformSwitchAnalyzeR_2.2.0.tar.gz PackageFileSize: 4.487 MiB