Package: IsoformSwitchAnalyzeR Version: 2.2.0 Command: rm -rf IsoformSwitchAnalyzeR.buildbin-libdir && mkdir IsoformSwitchAnalyzeR.buildbin-libdir && /Users/biocbuild/BBS/utils/build-universal.sh IsoformSwitchAnalyzeR_2.2.0.tar.gz /Library/Frameworks/R.framework/Resources/bin/R IsoformSwitchAnalyzeR.buildbin-libdir StartedAt: 2024-03-04 00:47:21 -0500 (Mon, 04 Mar 2024) EndedAt: 2024-03-04 00:48:58 -0500 (Mon, 04 Mar 2024) EllapsedTime: 96.9 seconds RetCode: 0 Status: OK PackageFile: IsoformSwitchAnalyzeR_2.2.0.tgz PackageFileSize: 6.633 MiB