Package: IsoCorrectoRGUI Version: 1.18.0 Command: /Library/Frameworks/R.framework/Resources/bin/R CMD INSTALL IsoCorrectoRGUI StartedAt: 2024-04-15 15:18:37 -0400 (Mon, 15 Apr 2024) EndedAt: 2024-04-15 15:18:50 -0400 (Mon, 15 Apr 2024) EllapsedTime: 12.9 seconds RetCode: 0 Status: OK