Package: IsoCorrectoRGUI Version: 1.18.0 Command: /home/biocbuild/R/R-4.3.1/bin/R CMD INSTALL IsoCorrectoRGUI StartedAt: 2023-11-01 20:14:23 -0000 (Wed, 01 Nov 2023) EndedAt: 2023-11-01 20:14:30 -0000 (Wed, 01 Nov 2023) EllapsedTime: 7.8 seconds RetCode: 0 Status: OK