Package: IsoCorrectoRGUI Version: 1.18.0 Command: /home/biocbuild/R/R-4.3.1/bin/R CMD check --install=check:IsoCorrectoRGUI.install-out.txt --library=/home/biocbuild/R/R-4.3.1/site-library --no-vignettes --timings IsoCorrectoRGUI_1.18.0.tar.gz StartedAt: 2023-11-02 11:34:26 -0000 (Thu, 02 Nov 2023) EndedAt: 2023-11-02 11:35:04 -0000 (Thu, 02 Nov 2023) EllapsedTime: 38.1 seconds RetCode: 0 Status: OK CheckDir: IsoCorrectoRGUI.Rcheck Warnings: 0