Package: IntramiRExploreR Version: 1.24.0 Command: chmod a+r IntramiRExploreR -R && F:\biocbuild\bbs-3.18-bioc\R\bin\R.exe CMD build --keep-empty-dirs --no-resave-data IntramiRExploreR StartedAt: 2024-04-15 19:10:41 -0400 (Mon, 15 Apr 2024) EndedAt: 2024-04-15 19:11:07 -0400 (Mon, 15 Apr 2024) EllapsedTime: 26.2 seconds RetCode: 0 Status: OK PackageFile: IntramiRExploreR_1.24.0.tar.gz PackageFileSize: 8.901 MiB