Package: HumanTranscriptomeCompendium Version: 1.17.0 Command: /home/biocbuild/bbs-3.18-bioc/R/bin/R CMD check --install=check:HumanTranscriptomeCompendium.install-out.txt --library=/home/biocbuild/bbs-3.18-bioc/R/site-library --timings HumanTranscriptomeCompendium_1.17.0.tar.gz StartedAt: 2023-08-08 22:34:39 -0400 (Tue, 08 Aug 2023) EndedAt: 2023-08-08 22:38:28 -0400 (Tue, 08 Aug 2023) EllapsedTime: 228.9 seconds RetCode: 1 Status: ERROR CheckDir: HumanTranscriptomeCompendium.Rcheck Warnings: NA