Package: HELP Version: 1.60.0 Command: /Library/Frameworks/R.framework/Resources/bin/R CMD build --keep-empty-dirs --no-resave-data HELP StartedAt: 2024-03-03 17:01:08 -0500 (Sun, 03 Mar 2024) EndedAt: 2024-03-03 17:01:26 -0500 (Sun, 03 Mar 2024) EllapsedTime: 18.0 seconds RetCode: 0 Status: OK PackageFile: HELP_1.60.0.tar.gz PackageFileSize: 996.5 KiB