Package: HELP Version: 1.60.0 Command: rm -rf HELP.buildbin-libdir && mkdir HELP.buildbin-libdir && /Users/biocbuild/BBS/utils/build-universal.sh HELP_1.60.0.tar.gz /Library/Frameworks/R.framework/Resources/bin/R HELP.buildbin-libdir StartedAt: 2024-03-04 00:45:12 -0500 (Mon, 04 Mar 2024) EndedAt: 2024-03-04 00:45:21 -0500 (Mon, 04 Mar 2024) EllapsedTime: 9.0 seconds RetCode: 0 Status: OK PackageFile: HELP_1.60.0.tgz PackageFileSize: 1.115 MiB