Package: GraphPAC Version: 1.44.0 Command: F:\biocbuild\bbs-3.18-bioc\R\bin\R.exe CMD INSTALL GraphPAC StartedAt: 2024-04-15 16:28:42 -0400 (Mon, 15 Apr 2024) EndedAt: 2024-04-15 16:29:02 -0400 (Mon, 15 Apr 2024) EllapsedTime: 20.0 seconds RetCode: 0 Status: OK