Package: GraphPAC Version: 1.44.0 Command: /Library/Frameworks/R.framework/Resources/bin/R CMD build --keep-empty-dirs --no-resave-data GraphPAC StartedAt: 2024-04-15 19:08:29 -0400 (Mon, 15 Apr 2024) EndedAt: 2024-04-15 19:12:56 -0400 (Mon, 15 Apr 2024) EllapsedTime: 267.0 seconds RetCode: 0 Status: OK PackageFile: GraphPAC_1.44.0.tar.gz PackageFileSize: 706.1 KiB