Package: GeoTcgaData Version: 2.2.0 Command: /Library/Frameworks/R.framework/Resources/bin/R CMD build --keep-empty-dirs --no-resave-data GeoTcgaData StartedAt: 2024-04-15 18:58:36 -0400 (Mon, 15 Apr 2024) EndedAt: 2024-04-15 19:00:48 -0400 (Mon, 15 Apr 2024) EllapsedTime: 131.6 seconds RetCode: 0 Status: OK PackageFile: GeoTcgaData_2.2.0.tar.gz PackageFileSize: 3.318 MiB