Package: GeneStructureTools Version: 1.22.0 Command: /home/biocbuild/bbs-3.18-bioc/R/bin/R CMD check --install=check:GeneStructureTools.install-out.txt --library=/home/biocbuild/bbs-3.18-bioc/R/site-library --timings GeneStructureTools_1.22.0.tar.gz StartedAt: 2024-04-15 23:04:31 -0400 (Mon, 15 Apr 2024) EndedAt: 2024-04-15 23:13:58 -0400 (Mon, 15 Apr 2024) EllapsedTime: 566.6 seconds RetCode: 0 Status: OK CheckDir: GeneStructureTools.Rcheck Warnings: 0