Package: GeneStructureTools Version: 1.22.0 Command: /Library/Frameworks/R.framework/Resources/bin/R CMD INSTALL GeneStructureTools StartedAt: 2024-04-15 15:58:34 -0400 (Mon, 15 Apr 2024) EndedAt: 2024-04-15 16:00:16 -0400 (Mon, 15 Apr 2024) EllapsedTime: 101.8 seconds RetCode: 0 Status: OK