Package: GeneExpressionSignature Version: 1.48.0 Command: /home/biocbuild/bbs-3.18-bioc/R/bin/R CMD check --install=check:GeneExpressionSignature.install-out.txt --library=/home/biocbuild/bbs-3.18-bioc/R/site-library --timings GeneExpressionSignature_1.48.0.tar.gz StartedAt: 2024-04-15 23:01:55 -0400 (Mon, 15 Apr 2024) EndedAt: 2024-04-15 23:02:58 -0400 (Mon, 15 Apr 2024) EllapsedTime: 62.3 seconds RetCode: 0 Status: OK CheckDir: GeneExpressionSignature.Rcheck Warnings: 0