Package: GSRI Version: 2.50.0 Command: /home/biocbuild/R/R-4.3.1/bin/R CMD build --keep-empty-dirs --no-resave-data GSRI StartedAt: 2023-11-02 01:54:49 -0000 (Thu, 02 Nov 2023) EndedAt: 2023-11-02 01:55:44 -0000 (Thu, 02 Nov 2023) EllapsedTime: 54.3 seconds RetCode: 0 Status: OK PackageFile: GSRI_2.50.0.tar.gz PackageFileSize: 324.4 KiB