Package: GENIE3 Version: 1.24.0 Command: /home/biocbuild/bbs-3.18-bioc/R/bin/R CMD build --keep-empty-dirs --no-resave-data GENIE3 StartedAt: 2024-04-15 17:13:04 -0400 (Mon, 15 Apr 2024) EndedAt: 2024-04-15 17:13:10 -0400 (Mon, 15 Apr 2024) EllapsedTime: 5.6 seconds RetCode: 0 Status: OK PackageFile: GENIE3_1.24.0.tar.gz PackageFileSize: 241.3 KiB