Package: FastqCleaner Version: 1.20.0 Command: /Library/Frameworks/R.framework/Resources/bin/R CMD build --keep-empty-dirs --no-resave-data FastqCleaner StartedAt: 2024-03-03 16:42:20 -0500 (Sun, 03 Mar 2024) EndedAt: 2024-03-03 16:43:59 -0500 (Sun, 03 Mar 2024) EllapsedTime: 98.3 seconds RetCode: 0 Status: OK PackageFile: FastqCleaner_1.20.0.tar.gz PackageFileSize: 4.296 MiB