Package: Doscheda Version: 1.24.0 Command: /home/biocbuild/bbs-3.18-bioc/R/bin/R CMD build --keep-empty-dirs --no-resave-data Doscheda StartedAt: 2024-04-15 16:53:26 -0400 (Mon, 15 Apr 2024) EndedAt: 2024-04-15 16:54:07 -0400 (Mon, 15 Apr 2024) EllapsedTime: 40.2 seconds RetCode: 0 Status: OK PackageFile: Doscheda_1.24.0.tar.gz PackageFileSize: 3.654 MiB