Package: DepInfeR Version: 1.6.0 Command: /home/biocbuild/R/R-4.3.1/bin/R CMD build --keep-empty-dirs --no-resave-data DepInfeR StartedAt: 2023-11-02 00:14:11 -0000 (Thu, 02 Nov 2023) EndedAt: 2023-11-02 00:15:13 -0000 (Thu, 02 Nov 2023) EllapsedTime: 62.1 seconds RetCode: 0 Status: OK PackageFile: DepInfeR_1.6.0.tar.gz PackageFileSize: 2.273 MiB