Package: DNAfusion Version: 1.4.0 Command: rm -rf DNAfusion.buildbin-libdir && mkdir DNAfusion.buildbin-libdir && /Users/biocbuild/BBS/utils/build-universal.sh DNAfusion_1.4.0.tar.gz /Library/Frameworks/R.framework/Resources/bin/R DNAfusion.buildbin-libdir StartedAt: 2024-03-04 00:38:44 -0500 (Mon, 04 Mar 2024) EndedAt: 2024-03-04 00:39:38 -0500 (Mon, 04 Mar 2024) EllapsedTime: 54.6 seconds RetCode: 0 Status: OK PackageFile: DNAfusion_1.4.0.tgz PackageFileSize: 6.316 MiB