Package: ConsensusClusterPlus Version: 1.66.0 Command: rm -rf ConsensusClusterPlus.buildbin-libdir && mkdir ConsensusClusterPlus.buildbin-libdir && F:\biocbuild\bbs-3.18-bioc\R\bin\R.exe CMD INSTALL --build --library=ConsensusClusterPlus.buildbin-libdir ConsensusClusterPlus_1.66.0.tar.gz StartedAt: 2024-04-16 06:50:59 -0400 (Tue, 16 Apr 2024) EndedAt: 2024-04-16 06:51:08 -0400 (Tue, 16 Apr 2024) EllapsedTime: 9.6 seconds RetCode: 0 Status: OK PackageFile: ConsensusClusterPlus_1.66.0.zip PackageFileSize: 198.7 KiB