Package: ConsensusClusterPlus Version: 1.66.0 Command: /Library/Frameworks/R.framework/Resources/bin/R CMD check --install=check:ConsensusClusterPlus.install-out.txt --library=/Library/Frameworks/R.framework/Resources/library --no-vignettes --timings ConsensusClusterPlus_1.66.0.tar.gz StartedAt: 2024-04-16 01:08:49 -0400 (Tue, 16 Apr 2024) EndedAt: 2024-04-16 01:09:45 -0400 (Tue, 16 Apr 2024) EllapsedTime: 56.6 seconds RetCode: 0 Status: OK CheckDir: ConsensusClusterPlus.Rcheck Warnings: 0