Package: ConsensusClusterPlus Version: 1.66.0 Command: rm -rf ConsensusClusterPlus.buildbin-libdir && mkdir ConsensusClusterPlus.buildbin-libdir && /Users/biocbuild/BBS/utils/build-universal.sh ConsensusClusterPlus_1.66.0.tar.gz /Library/Frameworks/R.framework/Resources/bin/R ConsensusClusterPlus.buildbin-libdir StartedAt: 2024-04-16 11:21:12 -0400 (Tue, 16 Apr 2024) EndedAt: 2024-04-16 11:21:22 -0400 (Tue, 16 Apr 2024) EllapsedTime: 9.4 seconds RetCode: 0 Status: OK PackageFile: ConsensusClusterPlus_1.66.0.tgz PackageFileSize: 412.4 KiB