Package: ConsensusClusterPlus Version: 1.66.0 Command: /Library/Frameworks/R.framework/Resources/bin/R CMD INSTALL ConsensusClusterPlus StartedAt: 2024-03-03 15:06:23 -0500 (Sun, 03 Mar 2024) EndedAt: 2024-03-03 15:06:51 -0500 (Sun, 03 Mar 2024) EllapsedTime: 28.1 seconds RetCode: 0 Status: OK