Package: ConsensusClusterPlus Version: 1.66.0 Command: /Library/Frameworks/R.framework/Resources/bin/R CMD build --keep-empty-dirs --no-resave-data ConsensusClusterPlus StartedAt: 2024-03-03 16:20:29 -0500 (Sun, 03 Mar 2024) EndedAt: 2024-03-03 16:20:44 -0500 (Sun, 03 Mar 2024) EllapsedTime: 14.6 seconds RetCode: 0 Status: OK PackageFile: ConsensusClusterPlus_1.66.0.tar.gz PackageFileSize: 390.5 KiB