Package: ClusterSignificance Version: 1.30.0 Command: /home/biocbuild/R/R-4.3.1/bin/R CMD INSTALL ClusterSignificance StartedAt: 2023-11-01 20:07:38 -0000 (Wed, 01 Nov 2023) EndedAt: 2023-11-01 20:07:59 -0000 (Wed, 01 Nov 2023) EllapsedTime: 20.8 seconds RetCode: 0 Status: OK