Package: ChromSCape Version: 1.12.0 Command: /Library/Frameworks/R.framework/Resources/bin/R CMD INSTALL ChromSCape StartedAt: 2024-03-03 15:43:47 -0500 (Sun, 03 Mar 2024) EndedAt: 2024-03-03 15:45:01 -0500 (Sun, 03 Mar 2024) EllapsedTime: 74.1 seconds RetCode: 0 Status: OK